BEGIN:VCALENDAR
VERSION:2.0
PRODID:-//BLE Lorraine - ECPv6.15.20//NONSGML v1.0//EN
CALSCALE:GREGORIAN
METHOD:PUBLISH
X-ORIGINAL-URL:https://www.blelorraine.fr
X-WR-CALDESC:Évènements pour BLE Lorraine
REFRESH-INTERVAL;VALUE=DURATION:PT1H
X-Robots-Tag:noindex
X-PUBLISHED-TTL:PT1H
BEGIN:VTIMEZONE
TZID:Europe/Paris
BEGIN:DAYLIGHT
TZOFFSETFROM:+0100
TZOFFSETTO:+0200
TZNAME:CEST
DTSTART:20240331T010000
END:DAYLIGHT
BEGIN:STANDARD
TZOFFSETFROM:+0200
TZOFFSETTO:+0100
TZNAME:CET
DTSTART:20241027T010000
END:STANDARD
BEGIN:DAYLIGHT
TZOFFSETFROM:+0100
TZOFFSETTO:+0200
TZNAME:CEST
DTSTART:20250330T010000
END:DAYLIGHT
BEGIN:STANDARD
TZOFFSETFROM:+0200
TZOFFSETTO:+0100
TZNAME:CET
DTSTART:20251026T010000
END:STANDARD
BEGIN:DAYLIGHT
TZOFFSETFROM:+0100
TZOFFSETTO:+0200
TZNAME:CEST
DTSTART:20260329T010000
END:DAYLIGHT
BEGIN:STANDARD
TZOFFSETFROM:+0200
TZOFFSETTO:+0100
TZNAME:CET
DTSTART:20261025T010000
END:STANDARD
END:VTIMEZONE
BEGIN:VEVENT
DTSTART;TZID=Europe/Paris:20250710T200000
DTEND;TZID=Europe/Paris:20250710T223000
DTSTAMP:20260422T030723
CREATED:20250703T205228Z
LAST-MODIFIED:20250703T205229Z
UID:5443514-1752177600-1752186600@www.blelorraine.fr
SUMMARY:Conférence sur les contes et légendes des Vosges à Gérardmer
DESCRIPTION:Thomas RIBOULET\, Président du Groupe BLE Lorraine et spécialiste de la Lorraine\, donnera une conférence sur les contes et légendes des Vosges le jeudi 10 juillet 2025 à 20h au Bar Le Grattoir à Gérardmer. \n\n\n\n\n\n\n\nTerre de légendes et de mystères\, les Vosges offrent un univers merveilleux foisonnant peuplé de fées\, de géants\, de gnomes et du facétieux Sotré. Entre lacs\, montagnes et forêts\, venez découvrir et vous replonger dans les contes populaires de notre enfance et les légendes qui ont façonné les Vosges. \n\n\n\nLibre participation aux frais.
URL:https://www.blelorraine.fr/evenement/conference-sur-les-contes-et-legendes-des-vosges-a-gerardmer/
LOCATION:Bar le Grattoir\, 11\, Boulevard Kelsch\, Gérardmer\, Lorraine\, 88400\, France
CATEGORIES:Conférences
ATTACH;FMTTYPE=image/jpeg:https://www.blelorraine.fr/wp-content/uploads/2022/10/fee-Vosges.jpg
ORGANIZER;CN="Bar Le Grattoir":MAILTO:e.grattoir@gmail.com
END:VEVENT
END:VCALENDAR