BEGIN:VCALENDAR
VERSION:2.0
PRODID:-//BLE Lorraine - ECPv6.15.20//NONSGML v1.0//EN
CALSCALE:GREGORIAN
METHOD:PUBLISH
X-WR-CALNAME:BLE Lorraine
X-ORIGINAL-URL:https://www.blelorraine.fr
X-WR-CALDESC:Évènements pour BLE Lorraine
REFRESH-INTERVAL;VALUE=DURATION:PT1H
X-Robots-Tag:noindex
X-PUBLISHED-TTL:PT1H
BEGIN:VTIMEZONE
TZID:Europe/Paris
BEGIN:DAYLIGHT
TZOFFSETFROM:+0100
TZOFFSETTO:+0200
TZNAME:CEST
DTSTART:20240331T010000
END:DAYLIGHT
BEGIN:STANDARD
TZOFFSETFROM:+0200
TZOFFSETTO:+0100
TZNAME:CET
DTSTART:20241027T010000
END:STANDARD
BEGIN:DAYLIGHT
TZOFFSETFROM:+0100
TZOFFSETTO:+0200
TZNAME:CEST
DTSTART:20250330T010000
END:DAYLIGHT
BEGIN:STANDARD
TZOFFSETFROM:+0200
TZOFFSETTO:+0100
TZNAME:CET
DTSTART:20251026T010000
END:STANDARD
BEGIN:DAYLIGHT
TZOFFSETFROM:+0100
TZOFFSETTO:+0200
TZNAME:CEST
DTSTART:20260329T010000
END:DAYLIGHT
BEGIN:STANDARD
TZOFFSETFROM:+0200
TZOFFSETTO:+0100
TZNAME:CET
DTSTART:20261025T010000
END:STANDARD
END:VTIMEZONE
BEGIN:VEVENT
DTSTART;TZID=Europe/Paris:20250607T100000
DTEND;TZID=Europe/Paris:20250607T170000
DTSTAMP:20260424T085238
CREATED:20250602T175921Z
LAST-MODIFIED:20250602T175923Z
UID:5443414-1749290400-1749315600@www.blelorraine.fr
SUMMARY:Premières Rencontres des Langues Régionales de Lorraine
DESCRIPTION:Ce samedi 7 juin se dérouleront de 10h à 17h les premières Rencontres des Langues Régionales de Lorraine à Mousson (Salle du Kiosque)\, près de Pont-à-Mousson\, entre Metz et Nancy. \n\n\n\nCet évènement est organisé par trois associations partenaires\, à savoir le Groupe BLE Lorraine\, les Amis du Vieux Mousson et Quairìlhaons. L’idée est de favoriser la connaissance\, la sauvegarde et la mise en réseau de toutes les bonnes volontés et de toutes les initiatives en faveur des langues régionales de Lorraine (Lorrain roman et Lothringer Platt). \n\n\n\nLes places étant limitées\, merci de bien vouloir confirmer votre inscription par mail/message. \n\n\n\nChaque participant devra apporter son repas tiré du sac pour un déjeuner en commun convivial. \n\n\n\n\n\n\n\nProgramme de l’évènement : \n\n\n\n10h – 10h15 : Présentation de la journée par Thomas Riboulet\, Président du Groupe BLE Lorraine \n\n\n\n10h15 – 11h : Première Conférence et Questions du public :Lorrain roman\, perspectives d’avenir pour une langue toujours vivante mais menacée par Claire Chevry\, Présidente de Quairìlhaons \n\n\n\n11h – 11h30 : Atelier ludique avec tous les participants :Le vocabulaire animalier dans toutes les langues régionales présentes et sa référence aux langue française et allemande dans leurs différents états \n\n\n\n11h30 – 12h15 : Deuxième Conférence et Questions du public :Au-delà de la Lorraine … la terre est platt par Hervé Atamaniuk\, Conférencier et auteur \n\n\n\n12h15 – 13h30 : Repas tiré du sac (type « auberge espagnole ») \n\n\n\n13h30 – 14h : Promenade digestive et historique dans Mousson par René Auclair\, Président des Amis du Vieux Mousson \n\n\n\n14h – 14h45 : Troisième Conférence et Questions du public :Le Parler lorrain roman dans la région messine par Chantal Ticheur\, autrice d’une BD Tintin en Lorrain roman \n\n\n\n14h45 – 15h15 : Atelier ludique avec tous les participants :Quizz sur des termes de patois roman et francique de toute la Lorraine \n\n\n\n15h15 – 16h : Troisième Conférence et Questions du public :Étude du patrimoine linguistique sur la zone de biosphère Moselle-Sud par Catherine Lacombe\, membre de la Société d’Histoire et d’Archéologie de Lorraine de Sarrebourg \n\n\n\n16h – 16h30 : Bilan de la journée\, questions\, perspectives\, etc. \n\n\n\n16h30 – 17h : Echanges informels\, un verre de l’amitié à la main.
URL:https://www.blelorraine.fr/evenement/premieres-rencontres-des-langues-regionales-de-lorraine/
LOCATION:Kiosque de Mousson\, 3\, Rue du Général Searby\, Mousson\, Lorraine\, 54700\, France
CATEGORIES:Conférences
ATTACH;FMTTYPE=image/jpeg:https://www.blelorraine.fr/wp-content/uploads/2025/06/Afiche.jpg
ORGANIZER;CN="Groupe BLE Lorraine":MAILTO:contact@blelorraine.fr
END:VEVENT
END:VCALENDAR